BEGIN:VCALENDAR
PRODID:-//eluceo/ical//2.0/EN
VERSION:2.0
CALSCALE:GREGORIAN
BEGIN:VEVENT
UID:ca22d049d65ebe6a4b5ef02e1ad4d963
DTSTAMP:20260419T130805Z
SUMMARY:Symposium Advances in Pharmacology 2026: Pharmakotherapie bei Niere
 nerkrankungen
URL:https://angiologie.insel.ch/de/veranstaltungen/details/detail/symposium
 -advances-in-pharmacology-2026-pharmakotherapie-bei-nierenerkrankungen
DTSTART;TZID=+01:00:20260129T094500
DTEND;TZID=+01:00:20260129T170000
LOCATION:Auditorium Ettore Rossi\, Inselspital
END:VEVENT
END:VCALENDAR
